BEGIN:VCALENDAR
VERSION:2.0
PRODID:icalendar-ruby
CALSCALE:GREGORIAN
METHOD:PUBLISH
BEGIN:VEVENT
DTSTAMP:20260423T035037Z
UID:241-252468@ebcmeet.com
DTSTART:20260424T220000Z
DTEND:20260424T233000Z
CLASS:PUBLIC
CREATED:20260422T201918
DESCRIPTION:Warfare Prayer: The Unveiling\n\nYou are invited to join us for
  a powerful discussion on Warfare Prayer: The Unveiling Friday April 24th\
 , starting at 7pm. Come expectant and ready to receive and ready to engage
  in a meaningful conversation that brings clarity\, truth\, and breakthrou
 gh.\n\nFeaturing:\n• Sister Rose Fraser\n• Sister Nadine Mata\n• Sis
 ter Chenai Makata\n\n\n \n\nEBC is inviting you to a scheduled Zoom meeti
 ng.\n Topic: EBC's Zoom Meeting\nTime: Apr 24\, 2026 07:00 PM Atlantic Ti
 me (Canada)\nJoin Zoom Meeting\nhttps://us02web.zoom.us/j/83986723274?pwd=
 oIIAzeY07XLZW0gaxaFNAvWjuoqKK3.1\n \nMeeting ID: 839 8672 3274\nPasscode:
  016353\n ---\n One tap mobile\n+13126266799\,\,83986723274#\,\,\,\,*016
 353# US (Chicago)\n+13462487799\,\,83986723274#\,\,\,\,*016353# US (Housto
 n)\n \nJoin instructions\nhttps://us02web.zoom.us/meetings/83986723274/in
 vitations?signature=jrY9c7xM6dHgYKycwVyB0JXexsMpCedhfX3LENm_y-A\n\n\n
LAST-MODIFIED:20260422T201918
LOCATION:
SUMMARY:Arise & Shine – The Extended Conversation
URL;VALUE=URI:https://ebcmeet.com/events/arise-shine-the-extended-conversat
 ion--241/2026-04-24
ATTACH;FILENAME=672427125_983027654062435_6943290612153931321_n.jpg;FMTTYPE
 =image/jpeg:https://dq5pwpg1q8ru0.cloudfront.net/2026/04/22/23/19/17/873a8
 5df-b8fa-4507-8288-03cbaed47fc4/672427125_983027654062435_6943290612153931
 321_n.jpg
END:VEVENT
END:VCALENDAR
