BEGIN:VCALENDAR
VERSION:2.0
PRODID:icalendar-ruby
CALSCALE:GREGORIAN
METHOD:PUBLISH
BEGIN:VEVENT
DTSTAMP:20260422T042157Z
UID:238-239908@ebcmeet.com
DTSTART:20260523T130000Z
DTEND:20260523T160000Z
CLASS:PUBLIC
CREATED:20260409T152815
DESCRIPTION:\nAre you interested in becoming a member of EBC: The Meeting P
 lace? Join us on May 23rd at 10:00 AM to learn about our history\, ministr
 ies\, and the DNA of our church.\n\n\nPlease email office@ebcmeet.com to s
 ign up\n
LAST-MODIFIED:20260409T152815
LOCATION:
SUMMARY:Membership Sunday 
URL;VALUE=URI:https://ebcmeet.com/events/membership-sunday--238/2026-05-23
ATTACH;FILENAME=Membership-Class-NEW-DATE--5.jpg;FMTTYPE=image/jpeg:https:/
 /dq5pwpg1q8ru0.cloudfront.net/2026/04/09/18/28/15/20509829-a14e-4a3b-8b76-
 2254338c714e/Membership-Class-NEW-DATE--5.jpg
END:VEVENT
END:VCALENDAR
